BEGIN:VCALENDAR
PRODID:-//kirchenweb.ch gmbh//veranstaltungsausgabe v2.0//DE
VERSION:2.0
METHOD:PUBLISH
BEGIN:VEVENT
DTSTART:20250614T160000Z
DTEND:20250614T210000Z
LOCATION:Pfarrhaus\, Pfarrstutz 1\, 3110 Münsingen
TRANSP:OPAQUE
SEQUENCE:0
UID:63823-veranstaltung@ref-muensingen.ch
DTSTAMP:20250428T095816Z
DESCRIPTION:Am Samstag\, 14. Juni 2025\, findet in Münsingen die erste
  Jugendfilmnacht statt – ein Abend für junge Filmemacher:innen und
  Filmfans.\n\nHerzstück ist der Kurzfilmwettbewerb. In zwei Kategorien
  messen sich Filme\, die eigens für diesen Abend produziert werden. Filme
  zum Thema «Nichts»!\n\nAlle Beiträge werden auf Grossleinwand
  präsentiert. Das Publikum kürt gemeinsam mit einer Fachjury die
  Gewinner:innen beider Kategorien.\n\nRund um die Filme gibt es ein
  abwechslungsreiches Rahmenprogramm: Pizza zum Selbermachen\, Popcorn\,
  Glace\, Zuckerwatte\, eine Bar\, Siebdruck und ein Glücksrad. Die
  Jugendfilmnacht bietet auch Raum für Begegnung\, Austausch und
  Vernetzung unter jungen Filmschaffenden. Ein engagiertes Team aus
  Jugendlichen und jungen Erwachsenen organisiert und moderiert den Abend.
 \n\nOrt\n\nPfarrstutz 1\, Münsingen.\nAlle Programmpunkte finden unter
  freiem Himmel statt. Bei schlechtem Wetter weichen wir in den
  Gemeindesaal Schlossgut aus.\n\nProgramm\n\n18:00 – Start
  Rahmenprogramm: Pizza\, Popcorn\, Zuckerwatte\, Bar\, Siebdruck &
  Glücksrad\n20:00 – Beginn der Kurzfilmvorführungen / Auftritt der
  Band Henage\n21:30 – Pause & Stimmenauszählung\n22:00 –
  Preisverleihung\n23:00 – Ende\n\nKontakt: Pierino Niklaus\n\nWeitere
  Infos: https://www.ref-muensingen.ch/veranstaltung/63823
SUMMARY:1. Jugend Filmnacht Münsingen
PRIORITY:5
X-MICROSOFT-CDO-IMPORTANCE:1
CLASS:PUBLIC
END:VEVENT
END:VCALENDAR
