BEGIN:VCALENDAR
PRODID:-//kirchenweb.ch gmbh//veranstaltungsausgabe v2.0//DE
VERSION:2.0
METHOD:PUBLISH
BEGIN:VEVENT
DTSTART:20250415T081500Z
DTEND:20250415T091500Z
LOCATION:Altersheim Beitenwil\, Beitenwil 140\, 3113 Rubigen
TRANSP:OPAQUE
SEQUENCE:0
UID:63108-veranstaltung@ref-muensingen.ch
DTSTAMP:20241122T102712Z
DESCRIPTION:Mit Abendmahl. Musikalische Begleitung: Barbara Rentsch\n
 \nKontakt: Pfr. Christoph Beutler\n\nWeitere Infos:
  https://www.ref-muensingen.ch/veranstaltung/63108
SUMMARY:Andacht Beitenwil
PRIORITY:5
X-MICROSOFT-CDO-IMPORTANCE:1
CLASS:PUBLIC
END:VEVENT
END:VCALENDAR
