BEGIN:VCALENDAR
PRODID:-//kirchenweb.ch gmbh//veranstaltungsausgabe v2.0//DE
VERSION:2.0
METHOD:PUBLISH
BEGIN:VEVENT
DTSTART:20250812T170000Z
DTEND:20250812T180000Z
LOCATION:Kirchgemeindehaus Münsingen\, Schlossstrasse 11\, 3110
  Münsingen
TRANSP:OPAQUE
SEQUENCE:0
UID:62341-veranstaltung@ref-muensingen.ch
DTSTAMP:20241008T063211Z
DESCRIPTION:(ehemals ATRAN)\n\nKontakt: Christine Röthenmund\, Tel. 079
  579 47 58\n\nWeitere Infos:
  https://www.ref-muensingen.ch/veranstaltung/62341
SUMMARY:Trauercafé
PRIORITY:5
X-MICROSOFT-CDO-IMPORTANCE:1
CLASS:PUBLIC
END:VEVENT
END:VCALENDAR
