BEGIN:VCALENDAR
PRODID:-//kirchenweb.ch gmbh//veranstaltungsausgabe v2.0//DE
VERSION:2.0
METHOD:PUBLISH
BEGIN:VEVENT
DTSTART:20250221T183000Z
DTEND:20250221T193000Z
LOCATION:Ref. Kirche Münsingen\, Bernstrasse 23\, 3110 Münsingen
TRANSP:OPAQUE
SEQUENCE:0
UID:62167-veranstaltung@ref-muensingen.ch
DTSTAMP:20241029T094022Z
DESCRIPTION:Input: Monika Strebel\n\nKontakt: Monika Strebel\n\nWeitere
  Infos: https://www.ref-muensingen.ch/veranstaltung/62167
SUMMARY:Lobpriiszyt
PRIORITY:5
X-MICROSOFT-CDO-IMPORTANCE:1
CLASS:PUBLIC
END:VEVENT
END:VCALENDAR
