BEGIN:VCALENDAR
PRODID:-//kirchenweb.ch gmbh//veranstaltungsausgabe v2.0//DE
VERSION:2.0
METHOD:PUBLISH
BEGIN:VEVENT
DTSTART:20251130T090000Z
DTEND:20251130T100000Z
LOCATION:Ref. Kirche Münsingen\, Bernstrasse 23\, 3110 Münsingen
TRANSP:OPAQUE
SEQUENCE:0
UID:61550-veranstaltung@ref-muensingen.ch
DTSTAMP:20251125T072008Z
DESCRIPTION:Kontakt: Lore Rahe Schopfer\n\nWeitere Infos:
  https://www.ref-muensingen.ch/veranstaltung/61550
SUMMARY:Gottesdienst mit Abendmahl zum 1. Advent
PRIORITY:5
X-MICROSOFT-CDO-IMPORTANCE:1
CLASS:PUBLIC
END:VEVENT
END:VCALENDAR
