BEGIN:VCALENDAR
PRODID:-//kirchenweb.ch gmbh//veranstaltungsausgabe v2.0//DE
VERSION:2.0
METHOD:PUBLISH
BEGIN:VEVENT
DTSTART:20250921T073000Z
DTEND:20250921T083000Z
LOCATION:Ref. Kirche Kleinhöchstetten\, Kleinhöchstetten\, 3113 Rubigen
TRANSP:OPAQUE
SEQUENCE:0
UID:61520-veranstaltung@ref-muensingen.ch
DTSTAMP:20250812T113715Z
DESCRIPTION:Kontakt: Lore Rahe Schopfer\n\nWeitere Infos:
  https://www.ref-muensingen.ch/veranstaltung/61520
SUMMARY:Gottesdienst mit Abendmahl zum Bettag
PRIORITY:5
X-MICROSOFT-CDO-IMPORTANCE:1
CLASS:PUBLIC
END:VEVENT
END:VCALENDAR
