BEGIN:VCALENDAR
PRODID:-//kirchenweb.ch gmbh//veranstaltungsausgabe v2.0//DE
VERSION:2.0
METHOD:PUBLISH
BEGIN:VEVENT
DTSTART:20260913T150000Z
DTEND:20260913T160000Z
LOCATION:Ref. Kirche Münsingen\, Bernstrasse 23\, 3110 Münsingen
TRANSP:OPAQUE
SEQUENCE:0
UID:59411-veranstaltung@ref-muensingen.ch
DTSTAMP:20251211T152846Z
DESCRIPTION:Ursula Heim: Orgelrezital\n\n\nKontakt: Caroline Marti\n
 \nWeitere Infos: https://www.ref-muensingen.ch/veranstaltung/59411
SUMMARY:Abendmusik
PRIORITY:5
X-MICROSOFT-CDO-IMPORTANCE:1
CLASS:PUBLIC
END:VEVENT
END:VCALENDAR
