BEGIN:VCALENDAR
PRODID:-//kirchenweb.ch gmbh//veranstaltungsausgabe v2.0//DE
VERSION:2.0
METHOD:PUBLISH
BEGIN:VEVENT
DTSTART:20221028T170000Z
DTEND:20221028T193000Z
LOCATION:Rubigen\, \,
TRANSP:OPAQUE
SEQUENCE:0
UID:50286-veranstaltung@ref-muensingen.ch
DTSTAMP:20220908T094632Z
DESCRIPTION:Gemeinsam fahren wir mit dem Zug nach Bern um ein Stadtspiel
  zu erleben!\nMitnehmen: Zugbillett\, am besten Stempelkarte\, Ztrinke\,
  wer hat; Handy\n\nKontakt: Alena Bucher\n\nWeitere Infos:
  https://www.ref-muensingen.ch/veranstaltung/50286
SUMMARY:Challenger Crew Rubigen
PRIORITY:5
X-MICROSOFT-CDO-IMPORTANCE:1
CLASS:PUBLIC
END:VEVENT
END:VCALENDAR
